BEGIN:VCALENDAR
VERSION:2.0
PRODID:-//pretix//Keener_Adventures_LLC._-_Reservation_Hub//
BEGIN:VEVENT
UID:pretix-ka-giftcards-0@reservations.keeneradventures.com
DTSTART;VALUE=DATE:29991231
DTEND;VALUE=DATE:30000101
DESCRIPTION:Tickets: https://reservations.keeneradventures.com/ka/giftcards
 /\nOrganizer: Keener Adventures LLC
DTSTAMP:20260420T210705Z
SUMMARY:Gift Cards
END:VEVENT
END:VCALENDAR
