BEGIN:VCALENDAR
VERSION:2.0
PRODID:-//pretix//Keener_Adventures_LLC._-_Reservation_Hub//
BEGIN:VTIMEZONE
TZID:America/Los_Angeles
BEGIN:STANDARD
DTSTART:20001029T030000
RRULE:FREQ=YEARLY;BYDAY=-1SU;BYMONTH=10;UNTIL=20061029T100000Z
TZNAME:PST
TZOFFSETFROM:-0700
TZOFFSETTO:-0800
END:STANDARD
BEGIN:STANDARD
DTSTART:20071104T030000
RRULE:FREQ=YEARLY;BYDAY=1SU;BYMONTH=11
TZNAME:PST
TZOFFSETFROM:-0700
TZOFFSETTO:-0800
END:STANDARD
BEGIN:DAYLIGHT
DTSTART:20000402T030000
RRULE:FREQ=YEARLY;BYDAY=1SU;BYMONTH=4;UNTIL=20060402T110000Z
TZNAME:PDT
TZOFFSETFROM:-0800
TZOFFSETTO:-0700
END:DAYLIGHT
BEGIN:DAYLIGHT
DTSTART:20070311T030000
RRULE:FREQ=YEARLY;BYDAY=2SU;BYMONTH=3
TZNAME:PDT
TZOFFSETFROM:-0800
TZOFFSETTO:-0700
END:DAYLIGHT
END:VTIMEZONE
BEGIN:VEVENT
UID:pretix-otwsd-open-hsscruise-5@reservations.keeneradventures.com
DTSTART;TZID=America/Los_Angeles:20260430T120000
DTEND;TZID=America/Los_Angeles:20260430T140000
DESCRIPTION:Tickets: https://reservations.keeneradventures.com/otwsd/open-h
 sscruise/5/\nAdmission: 04/30/2026 11:45 a.m.\nOrganizer: On the Water San
  Diego
DTSTAMP:20260420T211639Z
LOCATION:Action Sport Rentals at Kona Kai San Diego\, 1551 Shelter Island D
 r. Suite 108\, San Diego\, California\, 92106\, United States of America
SUMMARY:Open - Harbor Sips and Savor Cruise
END:VEVENT
END:VCALENDAR
